BEGIN:VCALENDAR
VERSION:2.0
CALSCALE:GREGORIAN
PRODID:-//MyApp//Calendar 1.0//EN
BEGIN:VEVENT
METHOD:PUBLISH
UID:55827@regionalniportaly.cz
DTSTAMP:20260420T191833Z
DTSTART;VALUE=DATE:20250731
DTEND;VALUE=DATE:20250801
SUMMARY:Roman Horký a Kamelot
DESCRIPTION:Po dlouhých 5 letech se na Křivoklát vrací legendární kapela KAMELOT se svým leaderem Romanem Horkým\, kde zahraje speciální set kultovních písní z&nbsp\;platinových alb „Zachraňte koně“\, „Tajný výpravy“ a „Vyznavači ohňů“. Nezapomenutelné představení na nádvoří gotického hradu se odehraje poslední červencový den tj. 31. 07. 2025 od 19:30 hodin.Předprodej vstupenek v&nbsp\;síti SMS ticket. V&nbsp\;místě konání před koncertem bude u hlavní brány pouze omezený počet vstupenek!&nbsp\;
LOCATION:Křivoklát
END:VEVENT
END:VCALENDAR