BEGIN:VCALENDAR
VERSION:2.0
CALSCALE:GREGORIAN
PRODID:-//MyApp//Calendar 1.0//EN
BEGIN:VEVENT
METHOD:PUBLISH
UID:55954@regionalniportaly.cz
DTSTAMP:20260420T144327Z
DTSTART;VALUE=DATE:20250718
DTEND;VALUE=DATE:20250719
SUMMARY:Koncert Keks a Michal Šindelář na Křivoklátě
DESCRIPTION:Keks a Michal Šindelář na Křivoklátě.\nOvěřené spojení \, večer plný hitů obou kapel na nádvoří královského hradu\n19.15-20.15 Michal Šindelář\n21-22 a 22.20-23.20 Keks
LOCATION:Křivoklát
END:VEVENT
END:VCALENDAR