BEGIN:VCALENDAR
VERSION:2.0
CALSCALE:GREGORIAN
PRODID:-//MyApp//Calendar 1.0//EN
BEGIN:VEVENT
METHOD:PUBLISH
UID:56236@regionalniportaly.cz
DTSTAMP:20260420T173359Z
DTSTART;VALUE=DATE:20250830
DTEND;VALUE=DATE:20250831
SUMMARY:Fest SLATINA 2025
DESCRIPTION:Akce pro celou rodinu na závěr prázdnin\, která propojí sport\, kulturu a charitu\nVýtěžek pro neziskovou organizaci Klubíčko\nMůžete se těšit na pořádnou porci nejen rockové muziky v podání kapel Rum Cajk\, ValRock  a Kabát Revival West\nNebude chybět fotbalové utkání známých osobností z oblasti sportu i kultury \nSigi Team vs SK Slatina\nProgram pro děti - skákací hrad\, malování na obličej\, tvoření z balónků\nAukce fotbalových předmětů a bohatá tombola
LOCATION:Slatina
END:VEVENT
END:VCALENDAR