BEGIN:VCALENDAR
VERSION:2.0
CALSCALE:GREGORIAN
PRODID:-//MyApp//Calendar 1.0//EN
BEGIN:VEVENT
METHOD:PUBLISH
UID:56573@regionalniportaly.cz
DTSTAMP:20260420T155543Z
DTSTART;VALUE=DATE:20250817
DTEND;VALUE=DATE:20250818
SUMMARY:Lesní ladění se zvukovou koupelí
DESCRIPTION:Pojď vydechnout\, jen tak být\, v lehkosti\, nechat přírodu ať tě naladí na to tvoje přirozené\, průzračné\, na tvůj jedinečný vnitřní domov.Čeká nás lesní pouť a následná zvuková koupel v objetí lesa\, křišťálových mís a dalších nástrojů\, které se přihlásí. Vytvoříme bezpečný\, tichý prostor\, využijeme čistých a vysokých frekvencí lesů a oživíme to svoje nejvyšší\, nejhlubší\, nejpřirozenější.Nejde o lesní terapii tak\, jak ji znáš. To\, co se zrodilo\, je spíš návrat k přirozenosti s podporou přírody. Je to pozvání vyzkoušet různé způsoby\, jak pracovat s tělem\, dechem\, energií a pozorností v objetí přírody\, která je dostupnou energetickou ladičkou pro každého.Využijeme tedy frekvencí přírody k rozpuštění odporu vůči tomu\, co je. Uzemníme se v těle\, projasníme a odlehčíme mysl\, naladíme se na hlas srdce a na to\, co opravdu chceme žít\, a otevřeme se přijímání.&nbsp\;Délka poutě: cca 2–2\,5 hodinyDélka zvukové koupele: cca 40–60 minut&nbsp\;&nbsp\;Těším se na tebe!&nbsp\;Martina
LOCATION:Mníšek pod Brdy
END:VEVENT
END:VCALENDAR