BEGIN:VCALENDAR
VERSION:2.0
CALSCALE:GREGORIAN
PRODID:-//MyApp//Calendar 1.0//EN
BEGIN:VEVENT
METHOD:PUBLISH
UID:56579@regionalniportaly.cz
DTSTAMP:20260420T155619Z
DTSTART;VALUE=DATE:20250913
DTEND;VALUE=DATE:20250914
SUMMARY:Hudební festival Trampské Pikovice 2025
DESCRIPTION:Legendární festival Trampské Pikovice. Jako vždy v Pikovicích u Prahy 13.září\, na veřejném  tábořišti a jako vždy od 11:00 do 23:00. Jako vždy kromě skvělé muziky zažijete skvělou trampskou atmosféru s nejrůznějšími soutěžemi o ceny jako např. Železný tramp\, rýžováním zlata\, s naukou jak se chovat v přírodě\, jak zabalit US tornu nebo batoh zvaný \,\, Tele´´ a airsoftovou střelnici. Pro návštěvníky\, kteří chtějí vydržet až do konce máme připravený vlak který pojede z Pikovic do Prahy až ve 23:30. Doprava autobusem je možná ze Smíchovského nádraží až na místo festivalu. Zahrají Fešáci s Míšou Tučnou\, Taxmeni\, Štěpán a Matěj Rakovi přičemž Štěpán oslaví 80 narozeniny\, Pacifik\, dále Paběrky Marko Čermáka\, Terrakota\, František Nedvěd\, Nová Sekce\, T-Kvartet\, vítěz Porty a kapela Passage. Těšit se také můžete na spoustu jídla a pití a hlavně přátelskou kamarádskou atmosféru. \n 
LOCATION:Hradištko
END:VEVENT
END:VCALENDAR