BEGIN:VCALENDAR
VERSION:2.0
CALSCALE:GREGORIAN
PRODID:-//MyApp//Calendar 1.0//EN
BEGIN:VEVENT
METHOD:PUBLISH
UID:56657@regionalniportaly.cz
DTSTAMP:20260420T172924Z
DTSTART;VALUE=DATE:20250906
DTEND;VALUE=DATE:20250907
SUMMARY:Fernetový opar - párty na Okoři
DESCRIPTION:ROCK PÁTRY NA OKOŘI 13.9.2025&nbsp\;od 17&nbsp\;hodin skupina FERNETOVÝ OPAR Z ČÍČOVIC. Předposlední párty roku 2025.BAVORÁK ZA 40\,-KČ (fernet s tonikem)MOJITO ZA 50\,-
LOCATION:Okoř
END:VEVENT
END:VCALENDAR