BEGIN:VCALENDAR
VERSION:2.0
CALSCALE:GREGORIAN
PRODID:-//MyApp//Calendar 1.0//EN
BEGIN:VEVENT
METHOD:PUBLISH
UID:56661@regionalniportaly.cz
DTSTAMP:20260420T173546Z
DTSTART;VALUE=DATE:20250913
DTEND;VALUE=DATE:20250914
SUMMARY:TYP - párty na Okoři
DESCRIPTION:ROCK PÁTRY NA OKOŘI 13.9.2025&nbsp\;od 17&nbsp\;hodin skupina&nbsp\;TYP.GRIL PÁRTY - ROCK PÁRTY - SPRÁVNÝ ČESKÝ BIGBÍTPANÁK ČERTA ZA 30\,-(GRIOTKA -RUM BOŽKOV= ČERT)MOJITO ZA 50\,-Rocková párty pro zakončení letní sezóny na okořském parkovišti
LOCATION:Okoř
END:VEVENT
END:VCALENDAR