BEGIN:VCALENDAR
VERSION:2.0
CALSCALE:GREGORIAN
PRODID:-//MyApp//Calendar 1.0//EN
BEGIN:VEVENT
METHOD:PUBLISH
UID:56919@regionalniportaly.cz
DTSTAMP:20260420T091718Z
DTSTART;VALUE=DATE:20260224
DTEND;VALUE=DATE:20260225
SUMMARY:MUDr. Tomáš Šebek: Objektivní nález
DESCRIPTION:Srdečně Vás zveme na besedu 24.2. od 19:00 do Berouna&nbsp\;s názvem: MUDr. Tomáš Šebek: Objektivní nález. Uznávaného chirurga můžete znát hlavně jako účastníka misí "Lékaři bez hranic". Po besedě bude odpovídat na veškeré Vaše dotazy\, vyfotí se s Vámi a podepíšu knihu\, kterou budete moct na místě za výhodnou cenu zakoupit.Na besedě bude povídat o zážitcích z misí\, ale také o své nové knize OBJEKTIVNÍ NÁLEZ. V tomto případě vložil Tomáš do knihy spíše soukromý život a své dospívání. "Když se narodíte do rodiny násilníka a alkoholičky\, máte dvě možnosti\, jak naložit se svým životem. Za prvé si ho můžete podělat. Anebo si ho poděláte míň\, když se budete víc snažit."
LOCATION:Beroun
END:VEVENT
END:VCALENDAR