BEGIN:VCALENDAR
VERSION:2.0
CALSCALE:GREGORIAN
PRODID:-//MyApp//Calendar 1.0//EN
BEGIN:VEVENT
METHOD:PUBLISH
UID:56941@regionalniportaly.cz
DTSTAMP:20260420T153343Z
DTSTART;VALUE=DATE:20251023
DTEND;VALUE=DATE:20251024
SUMMARY:Pavol HAMMEL & Juraj Burian
DESCRIPTION:V roce 1963\, kdy začal hrát na kytaru\, založil bigbeatovou skupinu Prúdy. První píseň v skupině Prúdy s názvem Spievam si pieseň složil o dva roky později. V roce 1967 začal se skupinou Prúdy hrát Marián Varga. V tu dobu se kolem kapely Prúdy již pohybují textaři Kamil Peteraj a Boris Filan\, se kterými spolupracuje dodnes. Od roku 1972 nahrál Pavol Hammel s Mariánem Vargou 5 samostatných alb\, mimo jiné vynikající Zvonky zvoňte a také Zelená pošta\, další pak navíc spolu s&nbsp\;Radimem Hladíkem. Hostoval také na albech Collegium Musicum (Konvergencie\, Divergencie\, On a ona).
LOCATION:Beroun
END:VEVENT
END:VCALENDAR