BEGIN:VCALENDAR
VERSION:2.0
CALSCALE:GREGORIAN
PRODID:-//MyApp//Calendar 1.0//EN
BEGIN:VEVENT
METHOD:PUBLISH
UID:57344@regionalniportaly.cz
DTSTAMP:20260420T124151Z
DTSTART;VALUE=DATE:20251003
DTEND;VALUE=DATE:20251004
SUMMARY:Roman Horký & Kamelot - Koncert "Ahoj léto"
DESCRIPTION:V muzice není&nbsp\;Roman Horký&nbsp\;stylově omezen\, nicméně\, jeho nejtypičtějším žánrem jsou trampské písně a folk-rock. Za svoji kariéru složil a otextoval přes tři sta písní. Je držitelem mnoha hudebních ocenění\, skupina&nbsp\;Kamelot&nbsp\;byla desetkrát vyhlášena Kapelou roku a její nahrávky byly třikrát oceněny jako Album roku\, natočil přes dvacet autorských alb\, z toho patnáct z nich bylo oceněno titulem Zlatá deska a dvě alba získala titul Platinová deska i Multiplatinová deska.
LOCATION:Davle
END:VEVENT
END:VCALENDAR