BEGIN:VCALENDAR
VERSION:2.0
CALSCALE:GREGORIAN
PRODID:-//MyApp//Calendar 1.0//EN
BEGIN:VEVENT
METHOD:PUBLISH
UID:57369@regionalniportaly.cz
DTSTAMP:20260420T171948Z
DTSTART;VALUE=DATE:20251011
DTEND;VALUE=DATE:20251012
SUMMARY:Zvláštním vlakem do elektrárny Temelín
DESCRIPTION:Zvláštní jízda výletního rychlíku z Prahy přes Beroun do Temelína a zpět.\nProhlídka informačního centra jaderné elektrárny Temelín s interaktivními exponáty. Zažijte ReakTour – virtuální tour až k reaktoru. Máte jedinečnou šanci prohlédnout si zblízka jaderný reaktor a zkusit si spustit regulační tyče až na jeho samé dno! Mlžná komora\, dětský koutek. Pořízení selfie na památku z reaktorového sálu. Zábava pro celou rodinu.
LOCATION:Beroun
END:VEVENT
END:VCALENDAR