BEGIN:VCALENDAR
VERSION:2.0
CALSCALE:GREGORIAN
PRODID:-//MyApp//Calendar 1.0//EN
BEGIN:VEVENT
METHOD:PUBLISH
UID:57486@regionalniportaly.cz
DTSTAMP:20260420T123339Z
DTSTART;VALUE=DATE:20251010
DTEND;VALUE=DATE:20251011
SUMMARY:Divadlo Ypsilonka - Pánská šatna
DESCRIPTION:Ypsilonka se vrací ke svému vynálezu totální improvizace. Úspěšné písničky\, řeči\, atrakce a nápady. Nepropásněte jedinečnou příležitost nahlédnout tak trochu klíčovou dírkou do pánské šatny ypsilonských herců. Zažijete spontánní atmosféru\, improvizační nápady\, jedinečné propojení herců a diváků i trochu kolegiální škodolibosti. Vždyť někteří z herců spolu hrají již desítky let a prožili společně velkou část hereckého života. To vše se odráží na vzájemných „přihrávkách“ i nekompromisních „smečích.“&nbsp\;&nbsp\;Režijní vedení: Martin DejdarHrají\, zpívají a improvizují: Martin Dejdar\, Jiří Lábus\, Petr Vacek\, Jan Jiráň\, Martin Janouš a Petr HojerPremiéra: 12. listopadu 2012Délka představení: 1 hodina 45 min (bez pauzy)Režijní vedení:&nbsp\;Martin DejdarHrají\, zpívají a improvizují:&nbsp\;Martin Dejdar\, Jiří Lábus\, Petr Vacek\, Jan Jiráň\, Martin Janouš a Petr HojerDélka představení:&nbsp\;1 hodina 45 min (bez pauzy)
LOCATION:Davle
END:VEVENT
END:VCALENDAR