BEGIN:VCALENDAR
VERSION:2.0
CALSCALE:GREGORIAN
PRODID:-//MyApp//Calendar 1.0//EN
BEGIN:VEVENT
METHOD:PUBLISH
UID:57936@regionalniportaly.cz
DTSTAMP:20260420T124247Z
DTSTART;VALUE=DATE:20250928
DTEND;VALUE=DATE:20250929
SUMMARY:Tichý Jelen: Vzduchoplavecká jízda
DESCRIPTION:15. ročník festivalu Tichý Jelen&nbsp\;proběhne od 28. září do 2. listopadu v Roztokách u Prahy. Tento rok nese téma Na cestě:&nbsp\;www.roztoc.cz/akce/festival-tichy-jelen-25/28. září od 18:30Vzduchoplavecká jízda- Alžběta Tichá a kol. Let horkovzdušného balónu\, pozemní i vzdušná akrobacie.Představení je vhodné pro celou rodinu.Vzduchoplavecká jízda proběhne na louce u přívozu do Klecan v Roztokách u Prahy.Vstupné:základní 15+ let: 250 Kčděti 5-14 let: 100 KčFoto: Jakub Souček&nbsp\;
LOCATION:Roztoky
END:VEVENT
END:VCALENDAR