BEGIN:VCALENDAR
VERSION:2.0
CALSCALE:GREGORIAN
PRODID:-//MyApp//Calendar 1.0//EN
BEGIN:VEVENT
METHOD:PUBLISH
UID:57937@regionalniportaly.cz
DTSTAMP:20260420T193412Z
DTSTART;VALUE=DATE:20251004
DTEND;VALUE=DATE:20251005
SUMMARY:Tichý Jelen: Cirkusová dílna
DESCRIPTION:15. ročník festivalu Tichý Jelen&nbsp\;proběhne od 28. září do 2. listopadu v Roztokách u Prahy.&nbsp\;Tento rok nese téma Na&nbsp\;cestě:&nbsp\;www.roztoc.cz/akce/festival-tichy-jelen-25/4. října od 10:00 Cirkusový workshop pro rodiny - Cécile da Costa a Robert Janč" Často jsme tak zaměstnaní\, že si těžko hledáme čas na plnohodnotnou interakci s vlastními dětmi. Nicméně fyzický kontakt je pro děti stejně důležitý&nbsp\;jak vzduch\, který dýchají. Hraní s dětmi je skvělé nejen pro jejich vývoj\, ale také pro váš vzájemný vztah." Rika Taeymans.Přijďte si s námi zahrát a pobavit se. Přijďte si vyzkoušet akrobacii a žonglování.Akrobatický tým složí dohromady 1&nbsp\;rodič a 1&nbsp\;dítě ve věku 4-10 let.Workshop proběhne v Ateliéru PlechOn v Roztokách u Prahy.Jediné\, co potřebujete\, jsou děti a pohodlné oblečení.Bližší organizační informace zašleme e-mailem před konáním akce.&nbsp\;Vstupné:tým (1 rodič+1 dítě): 400 Kčmax. kapacita: 14 osob&nbsp\;
LOCATION:Roztoky
END:VEVENT
END:VCALENDAR