BEGIN:VCALENDAR
VERSION:2.0
CALSCALE:GREGORIAN
PRODID:-//MyApp//Calendar 1.0//EN
BEGIN:VEVENT
METHOD:PUBLISH
UID:57939@regionalniportaly.cz
DTSTAMP:20260420T124549Z
DTSTART;VALUE=DATE:20251004
DTEND;VALUE=DATE:20251005
SUMMARY:Tichý Jelen: Dílna irského zpěvu
DESCRIPTION:15. ročník festivalu Tichý Jelen&nbsp\;proběhne od 28. září do 2. listopadu v Roztokách u Prahy.&nbsp\;Tento rok nese téma Na&nbsp\;cestě:&nbsp\;www.roztoc.cz/akce/festival-tichy-jelen-25/4.října od 11:00 do 12:00Workshop irského tradičního způsobu zpěvu -&nbsp\;Markéta Lábusová\, Iva Ščerbáková a Tomáš MašekPřijďte si zazpívat a prozkoumat&nbsp\;novou&nbsp\;oblast&nbsp\;zpěvu - tradiční rytmický styl Lilting.Lekcí provází autoři představení Krajina v batůžku.&nbsp\;Tato dílna je vhodná&nbsp\;pro dospělé a děti od 15 let.Workshop proběhne v Haurowitzově vile v Roztokách u Prahy.&nbsp\;Bližší organizační informace zašleme e-mailem před konáním akce.&nbsp\;Vstupné:základní vstupné 15+ let: 200 Kč
LOCATION:Roztoky
END:VEVENT
END:VCALENDAR