BEGIN:VCALENDAR
VERSION:2.0
CALSCALE:GREGORIAN
PRODID:-//MyApp//Calendar 1.0//EN
BEGIN:VEVENT
METHOD:PUBLISH
UID:57940@regionalniportaly.cz
DTSTAMP:20260420T124900Z
DTSTART;VALUE=DATE:20251004
DTEND;VALUE=DATE:20251005
SUMMARY:Tichý Jelen: Krajina v batůžku I.+dílna herbářů
DESCRIPTION:15. ročník festivalu Tichý Jelen&nbsp\;proběhne od 28. září do 2. listopadu v Roztokách u Prahy.&nbsp\;Tento rok nese téma Na&nbsp\;cestě:&nbsp\;www.roztoc.cz/akce/festival-tichy-jelen-25/4. října od 15:00Krajina v batůžku&nbsp\;- Studio Damúza:&nbsp\;Markéta Labusová\, Iva Ščerbáková\, Tomáš MašekV dešti a větru se za noční jízdy autem v zatáčkách odkrývají větvičky keřů a odírajíse o auto. Jedeme kolem domů\, kterým chybí střechy\, kamenných zídek a&nbsp\;zarostlých&nbsp\;kopečků uprostřed ničeho. Krajinu si spíš představujeme podle Sineadina líčení\, než&nbsp\;že bychom ji viděli.Cestopisné hudebně-objektové vyprávění z krajiny obydlené příběhy. Z ostrova\, kdese ovce barví na modro a na růžovo a kde prší zdola nahoru. Stopování\, přespávání\,&nbsp\;vyptávání\, buskování\, putování. A hodně deště.Na představení navazuje&nbsp\;dílna herbářů&nbsp\;(přibližně od 16:00 do&nbsp\;17:00).&nbsp\;Představení je vhodné pro dospělé a děti od 5 let.Představení proběhne v Haurowitzově vile v Roztokách u Prahy.Vstupné:základní 15+: 200 Kčděti&nbsp\;5-14 let 100 Kč&nbsp\;&nbsp\;
LOCATION:Roztoky
END:VEVENT
END:VCALENDAR