BEGIN:VCALENDAR
VERSION:2.0
CALSCALE:GREGORIAN
PRODID:-//MyApp//Calendar 1.0//EN
BEGIN:VEVENT
METHOD:PUBLISH
UID:57942@regionalniportaly.cz
DTSTAMP:20260420T130616Z
DTSTART;VALUE=DATE:20251004
DTEND;VALUE=DATE:20251005
SUMMARY:Tichý Jelen: Perníková chaloupka 2
DESCRIPTION:15. ročník festivalu Tichý Jelen&nbsp\;proběhne od 28. září do 2. listopadu v Roztokách u Prahy.&nbsp\;Tento rok nese téma Na&nbsp\;cestě:&nbsp\;www.roztoc.cz/akce/festival-tichy-jelen-25/4. října od 17:00 Perníková chaloupka 2 -&nbsp\;Cécile da Costa a Robert JančVyprávěná autorská pohádka s písněmi (a několika vtipy navíc) na motivy perníkové chaloupky.Představení vhodné pro celou rodinu.Představení proběhne v Haurowitzově vile v Roztokách u Prahy.Vstupné:základní 15+ let: 150Kčděti 5-14 let: 70Kč
LOCATION:Roztoky
END:VEVENT
END:VCALENDAR