BEGIN:VCALENDAR
VERSION:2.0
CALSCALE:GREGORIAN
PRODID:-//MyApp//Calendar 1.0//EN
BEGIN:VEVENT
METHOD:PUBLISH
UID:57944@regionalniportaly.cz
DTSTAMP:20260420T123058Z
DTSTART;VALUE=DATE:20251005
DTEND;VALUE=DATE:20251006
SUMMARY:Tichý Jelen: Opera Jakub a 200 dědečků
DESCRIPTION:15. ročník festivalu Tichý Jelen&nbsp\;proběhne od 28. září do 2. listopadu v Roztokách u Prahy.&nbsp\;Tento rok nese téma Na&nbsp\;cestě:&nbsp\;www.roztoc.cz/akce/festival-tichy-jelen-25/5. října od 16:00 Jakub a 200 děděčků-Jana Vöröšová a kol.Dětská opera pro sóla\, dětský sbor a ansámbl.Představení vhodné pro celou rodinu.&nbsp\;Koncert proběhne v Ateliéru PlechOn v Jungmannově ulici&nbsp\;v Roztokách u Prahy.Vstupné:základní (15+ let): 70 Kčděti 5-14 let: 50 Kčfoto: Jakub Souček
LOCATION:Roztoky
END:VEVENT
END:VCALENDAR