BEGIN:VCALENDAR
VERSION:2.0
CALSCALE:GREGORIAN
PRODID:-//MyApp//Calendar 1.0//EN
BEGIN:VEVENT
METHOD:PUBLISH
UID:57946@regionalniportaly.cz
DTSTAMP:20260420T141050Z
DTSTART;VALUE=DATE:20251102
DTEND;VALUE=DATE:20251103
SUMMARY:Tichý Jelen: Cestovatelská přednáška Pavla Tichého
DESCRIPTION:ZMĚNA MÍSTA KONÁNÍ AKCE- HOTEL ACADEMIC15. ročník festivalu Tichý Jelen&nbsp\;proběhne od 28. září do 2. listopadu v Roztokách u Prahy.&nbsp\;Tento rok nese téma Na&nbsp\;cestě:&nbsp\;www.roztoc.cz/akce/festival-tichy-jelen-25/2. listopadu od 18:00Cestovatelská přednáška - Pavel TichýPěší cesta přes USA z jihu na sever po Pacifické hřebenovce\, fotky\, příběhy\,zážitky…Vyprávění z cest proběhne v hotelu Academic&nbsp\;v Roztokách u Prahy.Vstupné:Základní vstupenka (15+ let): 100 KčDítě 5-14 let: 50 Kč
LOCATION:Roztoky
END:VEVENT
END:VCALENDAR