BEGIN:VCALENDAR
VERSION:2.0
CALSCALE:GREGORIAN
PRODID:-//MyApp//Calendar 1.0//EN
BEGIN:VEVENT
METHOD:PUBLISH
UID:57957@regionalniportaly.cz
DTSTAMP:20260420T122941Z
DTSTART;VALUE=DATE:20251129
DTEND;VALUE=DATE:20251130
SUMMARY:Retro Dance Párty
DESCRIPTION:V Přílepech už nás netřeba představovat. Pojďte si s námi před Vánocemi vyčistit hlavu starými hity!&nbsp\; Další naše akce zde již zřejmě nebude!80s - 90s RETRO DANCE PÁRTY je šestihodinový disco ples těch největších hitů osmdesátých a devadesátých let s přesahem na léta sedmdesátá až po současnost. Zkrátka od Abby\, přes Modern Talking až po Dua Lipu.Přijďte klidně v džínech\, ale nejlépe retro!Majitelé nejlepších dobových kostýmů získají vstupenky na naši mega show do O2 Universum na příští rok! Doba je zlá\, tak tancujme\, dokud můžeme!Na místě budou k dispozici vstupenky v ceně 300 Kč bez garance sezení.Těšíme se na vás!&nbsp\;
LOCATION:Velké Přílepy
END:VEVENT
END:VCALENDAR