BEGIN:VCALENDAR
VERSION:2.0
CALSCALE:GREGORIAN
PRODID:-//MyApp//Calendar 1.0//EN
BEGIN:VEVENT
METHOD:PUBLISH
UID:57972@regionalniportaly.cz
DTSTAMP:20260420T153653Z
DTSTART;VALUE=DATE:20251106
DTEND;VALUE=DATE:20251107
SUMMARY:Simone Reifegerste Trio (a hosté)
DESCRIPTION:Simone Reifegerste je úžasná zpěvačka s obrovským rozsahem\, rodačka z Berlína. Její unikátní hlas a prezentace jsou nezapomenutelné. S kapelou Be Mine Or Run okouzlila publikum po celém Německu v roce 1997. Za uznávané album Beutiful People obdržel soubor cenu kritiků „Preis der Deutschen Schallplattenkritik“.&nbsp\; Znát ji můžete také z mnoha nahrávek bluesmana Jesseho Ballarda.V triu ji doprovází skvělý v Berlíně žijící saxofonista Joe Kučera (hrával mj. s Michalem Prokopem\, Karlem Černochem a dalšími\, natočil album s Martou Kubišovou…) a klavírista Vladimír Strnad.
LOCATION:Beroun
END:VEVENT
END:VCALENDAR