BEGIN:VCALENDAR
VERSION:2.0
CALSCALE:GREGORIAN
PRODID:-//MyApp//Calendar 1.0//EN
BEGIN:VEVENT
METHOD:PUBLISH
UID:57973@regionalniportaly.cz
DTSTAMP:20260420T120951Z
DTSTART;VALUE=DATE:20260127
DTEND;VALUE=DATE:20260128
SUMMARY:Radůza s kapelou
DESCRIPTION:Její umělecká dráha připomíná některé „pohádkové&amp\;quot\; životopisy. Na ulici ji vroce 1993 objevila Zuzana Navarová a již tři dny na to zpívala ve svatyni českýchzpěváků\, v pražské Lucerně. O pár týdnů později zde pak triumfovala jako„předskokanka&amp\;quot\; slavné americké písničkářky Susanne Vega\, o šest let pozdějiměla stejnou čest při koncertě Mikea Oldfielda. Od té doby vydala řadu velmiúspěšných sólových alb\, která bez jakékoliv reklamy lámou rekordy vprodejnosti\, získala několik zlatých Andělů a bodovala také v anketě Zlatý slavík.Díky své jedinečnosti a originálním písním\, čerpajících především z&nbsp\;českétradice\, zaujala i publikum v zahraničí\, například Polsku a ve Francii. Radůza sezvládne doprovodit na několik hudebních nástrojů\, její zpěv hřmí\, ale i jemněvypráví dojemné příběhy.V&nbsp\;říjnu 2023 v&nbsp\;roce svého kulatého životního jubilea se rozhodla bilancovat avydává dvojalbum nazvané Bylo nebylo\, které obsahuje výběr nejúspěšnějšíchpísní\, jež složila v&nbsp\;průběhu dosavadních třiceti let své hudební dráhy.Tentokrát nám představí za doprovodu Josefa Štěpánka (kytary) a MilošeDvořáčka (bicí) průřez dosavadní tvorbou.
LOCATION:Beroun
END:VEVENT
END:VCALENDAR