BEGIN:VCALENDAR
VERSION:2.0
CALSCALE:GREGORIAN
PRODID:-//MyApp//Calendar 1.0//EN
BEGIN:VEVENT
METHOD:PUBLISH
UID:58104@regionalniportaly.cz
DTSTAMP:20260420T175114Z
DTSTART;VALUE=DATE:20251009
DTEND;VALUE=DATE:20251010
SUMMARY:Na pivo se Smetanou s hostem Janem Pokorným
DESCRIPTION:Přijďte si užít večer plný humoru\, příběhů a nečekaných odpovědí v Únětickém pivovaru! Moderátor Jan Smetana si pozval zajímavé hosty\, se kterými se nebude bavit jen „na sucho“. V pivovaru totiž platí\, že u piva se lidé otevírají víc – a tak se možná dozvíte věci\, které by jinde zůstaly nevyřčené.Čeká vás pohodová atmosféra\, smích i inspirace. A samozřejmě – u jednoho piva to určitě nezůstane!
LOCATION:Únětice
END:VEVENT
END:VCALENDAR