BEGIN:VCALENDAR
VERSION:2.0
CALSCALE:GREGORIAN
PRODID:-//MyApp//Calendar 1.0//EN
BEGIN:VEVENT
METHOD:PUBLISH
UID:58138@regionalniportaly.cz
DTSTAMP:20260420T123154Z
DTSTART;VALUE=DATE:20251022
DTEND;VALUE=DATE:20251023
SUMMARY:Na pivo se Smetanou s hostem Vávrou Hradílkem
DESCRIPTION:Přijďte si užít večer plný humoru\, příběhů a nečekaných odpovědí v Únětickém pivovaru! Moderátor Jan Smetana si pozval olympijského kajakáře a&nbsp\; reportéra Vavřince Hradílka\,&nbsp\;se kterými se nebude bavit jen „na sucho“. V pivovaru totiž platí\, že u piva se lidé otevírají víc – a tak se možná dozvíte věci\, které by jinde zůstaly nevyřčené.Čeká vás pohodová atmosféra\, smích i inspirace. A samozřejmě – u jednoho piva to určitě nezůstane!
LOCATION:Únětice
END:VEVENT
END:VCALENDAR