BEGIN:VCALENDAR
VERSION:2.0
CALSCALE:GREGORIAN
PRODID:-//MyApp//Calendar 1.0//EN
BEGIN:VEVENT
METHOD:PUBLISH
UID:58199@regionalniportaly.cz
DTSTAMP:20260422T062223Z
DTSTART;VALUE=DATE:20251031
DTEND;VALUE=DATE:20251101
SUMMARY:Tomáš Hanák - Kuba\, cestovatelská přednáška
DESCRIPTION:Procestovaná Kuba v autentickém podání Tomáše Hanáka
LOCATION:Loděnice
END:VEVENT
END:VCALENDAR