BEGIN:VCALENDAR
VERSION:2.0
CALSCALE:GREGORIAN
PRODID:-//MyApp//Calendar 1.0//EN
BEGIN:VEVENT
METHOD:PUBLISH
UID:58619@regionalniportaly.cz
DTSTAMP:20260420T144536Z
DTSTART;VALUE=DATE:20251003
DTEND;VALUE=DATE:20251004
SUMMARY:Není slepice jako slepice
DESCRIPTION:15. ročník festivalu Tichý Jelen&nbsp\;proběhne od 28. září do 2. listopadu v Roztokách u Prahy.&nbsp\;Tento rok nese téma Na&nbsp\;cestě:&nbsp\;www.roztoc.cz/akce/festival-tichy-jelen-25/3. října od 16:00Není slepice jako slepice - Martina MarešováVzdělávací program "Není slepice jako slepice"Budeme Vám vyprávět slepičí pohádky. Dozvíte se mnoho zajímavostí o netradičních plemenech. Na závěr si děti mohou pohladit živé slepice. Po našem programu si již nikdo nebude myslet\, že slepice je hloupé a nudné zvíře.Představení proběhne v Haurowitzově&nbsp\;vile v Roztokách u Prahy.&nbsp\;Vstupné:děti 5-14 let: 70 Kčdospělí 15+ let: 100 Kč
LOCATION:Roztoky
END:VEVENT
END:VCALENDAR