BEGIN:VCALENDAR
VERSION:2.0
CALSCALE:GREGORIAN
PRODID:-//MyApp//Calendar 1.0//EN
BEGIN:VEVENT
METHOD:PUBLISH
UID:58757@regionalniportaly.cz
DTSTAMP:20260420T091614Z
DTSTART;VALUE=DATE:20260214
DTEND;VALUE=DATE:20260215
SUMMARY:Petr Tomeček / Serenáda pro vyvolené
DESCRIPTION:Zveme Vás na mimořádný hudební zážitek\, který se odehraje v srdci přírody – v magickém prostředí Koněpruských jeskyní.Pouze prvních třicet hostů bude mít příležitost usednout do ticha podzemních sálů a nechat se unášet tóny Panovy flétny\, jejíž zvuk se rozezní v prostoru\, kde se čas i realita dají zpomalit.Pro tento jedinečný večer jsou&nbsp\;připraveny melodie\, které v podání Panovy flétny dosud nikde nezazněly. Melodie\, které Vás obklopí a vnesou&nbsp\;do hloubi&nbsp\;Vaší duše světlo\, něhu i tajemství.Každý návštěvník bude po příchodu přivítán jemným welcome drinkem\, aby se naladil na atmosféru večera. A aby kouzlo koncertu přetrvalo i po jeho skončení\, obdrží na cestu domů láhev kvalitního&nbsp\;vína ze speciální edice\, připravené právě pro mistra Panovy flétny.Tento koncert není jen událostí\, ale&nbsp\;intimním setkáním hudby\, tajemna a duše.
LOCATION:Koněprusy
END:VEVENT
END:VCALENDAR