BEGIN:VCALENDAR
VERSION:2.0
CALSCALE:GREGORIAN
PRODID:-//MyApp//Calendar 1.0//EN
BEGIN:VEVENT
METHOD:PUBLISH
UID:58951@regionalniportaly.cz
DTSTAMP:20260420T110301Z
DTSTART;VALUE=DATE:20251122
DTEND;VALUE=DATE:20251123
SUMMARY:Ples
DESCRIPTION:​
LOCATION:Zbiroh
END:VEVENT
END:VCALENDAR