BEGIN:VCALENDAR
VERSION:2.0
CALSCALE:GREGORIAN
PRODID:-//MyApp//Calendar 1.0//EN
BEGIN:VEVENT
METHOD:PUBLISH
UID:59019@regionalniportaly.cz
DTSTAMP:20260420T121048Z
DTSTART;VALUE=DATE:20251207
DTEND;VALUE=DATE:20251208
SUMMARY:Hravé čtení pohádky Louskáček (Divadlo L)
DESCRIPTION:HRAVÉ ČTENÍHravou a interaktivní formou se společně pokusíme objevit kouzlo skrývající se uvnitř každé dětské knihy. Klademe důraz na přirozený rozvoj fantazie\, kreativity a estetického vnímání světa. Pojďte se s námi společně vydat na poutavou cestu za dobrodružstvím.Během představení spolupracuje rodič a dítě v interakci s rozmanitými rekvizitami dotvářející celkový divadelní prožitek.Začátek v 9:30 hodin pro děti 1-3 roky\, v 11 hodin pro děti 3-6 let.Představení v 9:30 hodin je vhodné i pro děti mladší 1 roku a i starší 3 let.&nbsp\;Délka: 40minut. Aula bude pro veřejnost otevřena již 15 minut před představením.Komorní uspořádání na zemi na matracích. Volný pohyb dětí i konzumace během představení je samozřejmostí (zvláště u dětí 1-3 roky).&nbsp\;
LOCATION:Chýně
END:VEVENT
END:VCALENDAR