BEGIN:VCALENDAR
VERSION:2.0
CALSCALE:GREGORIAN
PRODID:-//MyApp//Calendar 1.0//EN
BEGIN:VEVENT
METHOD:PUBLISH
UID:59116@regionalniportaly.cz
DTSTAMP:20260420T110311Z
DTSTART;VALUE=DATE:20251119
DTEND;VALUE=DATE:20251120
SUMMARY:Na pivo se Smetanou s hostem Jirkou Ježkem
DESCRIPTION:Přijďte si užít večer plný humoru\, příběhů a nečekaných odpovědí v Únětickém pivovaru! Moderátor Jan Smetana si tentokrát pozval paraolympijského vítěze cyklistu&nbsp\;a moderátora Jirku Ježka\, se kterým se nebude bavit jen „na sucho“. V pivovaru totiž platí\, že u piva se lidé otevírají víc – a tak se možná dozvíte věci\, které by jinde&nbsp\;zůstaly&nbsp\;nevyřčené.Čeká vás pohodová atmosféra\, smích&nbsp\;i&nbsp\;inspirace.🍺 Vstupné 100 Kč &nbsp\;v ceně máte první Únětické&nbsp\;pivo&nbsp\;zdarma!Online rezervace&nbsp\;na&nbsp\;smstiket.czPouze 50 míst\,&nbsp\;tak&nbsp\;neváhejte!A samozřejmě – u jednoho piva to&nbsp\;určitě&nbsp\;nezůstane!
LOCATION:Únětice
END:VEVENT
END:VCALENDAR