BEGIN:VCALENDAR
VERSION:2.0
CALSCALE:GREGORIAN
PRODID:-//MyApp//Calendar 1.0//EN
BEGIN:VEVENT
METHOD:PUBLISH
UID:59232@regionalniportaly.cz
DTSTAMP:20260420T140958Z
DTSTART;VALUE=DATE:20251115
DTEND;VALUE=DATE:20251116
SUMMARY:Czech Pole Art 2025
DESCRIPTION:Czech Pole Art 2025&nbsp\;je čtvrtý&nbsp\;ročník soutěže navazující na předchozích 6 ročníků&nbsp\;Mistrovství ČR v Pole Art&nbsp\;organizovaných Českým svazem pole &amp\; arts sports (ČESPAS)\, se kterým jsme se na konci roku 2021 dohodli na převzetí organizace této soutěže.Soutěž je specifická svým uměleckým zaměřením\, volností ve výběru prvků i možností využít ke ztvárnění tématu rekvizity. Doplňuje tak portfolio pole dance soutěží v České republice.Naším cílem je vytvářet soutěžícím kvalitní soutěžní podmínky a neustále posouvat kvalitu pole dance.Novinkou pro rok 2025 je kategorie Flying Pole\, která proběhne v neděli v podvečer.&nbsp\;Sobotní večer vás čeká porotcovská&nbsp\;show\, kterou předvede světoznámá Lydia&nbsp\;Kollia.
LOCATION:Beroun
END:VEVENT
END:VCALENDAR