BEGIN:VCALENDAR
VERSION:2.0
CALSCALE:GREGORIAN
PRODID:-//MyApp//Calendar 1.0//EN
BEGIN:VEVENT
METHOD:PUBLISH
UID:59396@regionalniportaly.cz
DTSTAMP:20260420T123401Z
DTSTART;VALUE=DATE:20251108
DTEND;VALUE=DATE:20251109
SUMMARY:Svátek světla 2025
DESCRIPTION:Svátek světla: Cestou necestouRozjímavá procházka noční krajinou se světelnými instalacemi na&nbsp\;téma cesty a putování. Pro všechny poutníky\, cestovatele\, migranty\, turisty a stěhovavce. Batůžky a svačinky v ubrousku s sebou!Kdy: 8. listopadu 2025Čas: Vyberte si přesný čas vstupu na trasu\, který pak budete mít na Vaší&nbsp\;zakoupené vstupence. Na trasu se chodí v menších skupinách\, které mají mezi sebou pětiminutové rozestupy.Místo konání cesty: okolí Tichého údolí\, RoztokyZačátek trasy: Cesta začíná a končí na loučce u potoka za závorou v Tichém údolí v Roztokách. Na obrázku níže je mapka trasy.Vstupné: Pro dospělé a&nbsp\;děti od 6&nbsp\;let platí vstupenka za 140 Kč. Děti do 6 let zdarma. Několik pozdějších slotů je určeno jen pro dospělé a děti od 12&nbsp\;let (to je vyznačeno na vstupence).Na místo prosím přijďte&nbsp\;10 minut před časem na vstupence.Co když bude pršet?Menší deštík nevadí. V případě extrémního deště\, který&nbsp\;by vystavování a bezpečný průběh akce ohrozil\, může dojít ke zkrácení trasy&nbsp\;či úpravě programu. Vstupné nevracíme.Pozor\, cesta není sjízdná pro kočárky.
LOCATION:Roztoky
END:VEVENT
END:VCALENDAR