BEGIN:VCALENDAR
VERSION:2.0
CALSCALE:GREGORIAN
PRODID:-//MyApp//Calendar 1.0//EN
BEGIN:VEVENT
METHOD:PUBLISH
UID:59527@regionalniportaly.cz
DTSTAMP:20260420T171528Z
DTSTART;VALUE=DATE:20251115
DTEND;VALUE=DATE:20251116
SUMMARY:Odolen fest
DESCRIPTION:Každoroční hudební festival ODOLEN FEST přináší den plný country\, folku\, tanců a dobré nálady!Vystoupí Ponožky pana Semtamťuka\, Petr Kadlček Trio\, Proradost\, Kateřina Dvořáková s kapelou a Šunďák Trio.Součástí programu budou i ukázky tanců a LINE dance a také americké spirituály a gospely.
LOCATION:Odolena Voda
END:VEVENT
END:VCALENDAR