BEGIN:VCALENDAR
VERSION:2.0
CALSCALE:GREGORIAN
PRODID:-//MyApp//Calendar 1.0//EN
BEGIN:VEVENT
METHOD:PUBLISH
UID:59712@regionalniportaly.cz
DTSTAMP:20260420T123421Z
DTSTART;VALUE=DATE:20251220
DTEND;VALUE=DATE:20251221
SUMMARY:Ivan Mládek & Banjo Band - Vánoční koncert v Ořechu
DESCRIPTION:Vystoupení Ivana Mládka a jeho Banjo Bandu – známé písně\, prokládané humorným mluveným slovem a vystoupením komiků. Tentokrát s vánoční atmosférou.Banjo Band je populární hudební skupina\, která hraje od počátku 70. let písně Ivana Mládka. Svojí popularitu skupina získala díky častým vystupováním v zábavných televizních show mimo jiné např. Čundrcountry show nebo Country estráda. Jejich největší hit Jožin z bažin se stal již legendárním a to nejen v Čechách ale i v zahraničí.Ivan Mládek do dnešního dne napsal více než šest set písniček\, z nichž některé v českých zemích zlidověly (Dáša Nováková\, Jožin z bažin\, Prachovské skály\, Jez\, Linda a další)\,
LOCATION:Ořech
END:VEVENT
END:VCALENDAR