BEGIN:VCALENDAR
VERSION:2.0
CALSCALE:GREGORIAN
PRODID:-//MyApp//Calendar 1.0//EN
BEGIN:VEVENT
METHOD:PUBLISH
UID:60215@regionalniportaly.cz
DTSTAMP:20260420T120910Z
DTSTART;VALUE=DATE:20260214
DTEND;VALUE=DATE:20260215
SUMMARY:Skautský „Zamilovaný ples“
DESCRIPTION:Srdečně vás zveme na tradiční&nbsp\;skautský ples&nbsp\;višňovského oddílu. Jelikož se tenhle rok sejdeme na Valentýna\, je téma jasné: „Zamilovaný ples“.(Nemáte polovičku? Nevadí! Dorazit můžou i všichni\, co jsou zamilovaní prostě do života. Nebo do tance :-).)&nbsp\;I letos bude hrát kapela Robert Jíša Band a chybět nebude tradiční welcome drink\, fotokoutek\, půlnoční překvapení a další plesové radosti.Vstup ve společenském oděvu. Držet se tématu plesu (např. barvou šatů) je vítané\, ale nikoliv povinné :-)).Pro zájemce je doprava na ples i z plesu zajištěna svozovým autobusem. Podrobnosti o svozovém autobusu zveřejníme ve facebookové události.
LOCATION:Svaté Pole
END:VEVENT
END:VCALENDAR