BEGIN:VCALENDAR
VERSION:2.0
CALSCALE:GREGORIAN
PRODID:-//MyApp//Calendar 1.0//EN
BEGIN:VEVENT
METHOD:PUBLISH
UID:60309@regionalniportaly.cz
DTSTAMP:20260420T110244Z
DTSTART;VALUE=DATE:20251129
DTEND;VALUE=DATE:20251130
SUMMARY:Zabijačka  na Okoři
DESCRIPTION:ZABIJAČKA JAK MÁ BÝT!Sobota 29. 11. 2025 od 10:00Čerstvě zabito\, čerstvě natočeno!U nás se místo influencerů fotí jitrnice.Nepřijdeš? Pošleme ti tlačenku poštou (ale bez záruky).Zabijačka — taková česká verze spa víkendu.Kdo přijde nalačno\, ten odchází s tácem.
LOCATION:Okoř
END:VEVENT
END:VCALENDAR