BEGIN:VCALENDAR
VERSION:2.0
CALSCALE:GREGORIAN
PRODID:-//MyApp//Calendar 1.0//EN
BEGIN:VEVENT
METHOD:PUBLISH
UID:60561@regionalniportaly.cz
DTSTAMP:20260420T104149Z
DTSTART;VALUE=DATE:20260123
DTEND;VALUE=DATE:20260124
SUMMARY:Sto zvířat v Davli
DESCRIPTION:Skupina STO ZVÍŘAT se představila pražskému publiku na podzim 1990 dvojkoncertem v Malostranské besedě. STO ZVÍŘAT během své existence vydalo 23 alb\, natočilo 18 klipů a odehrálo více než dva a půl tisíce koncertů u nás\, v USA\, Německu\, Francii\, Švýcarsku\, Belgii a Lucembursku. Kapela STO ZVÍŘAT na jaře 2024 zaktualizovala svou sestavu a přijala na palubě dva staronové parťáky Honzu Šobra\, zvaného Beruška\, který převzal post kytaristy\, a Mikiho Nopa na perkuse. Novou posilou kapely se po náhlém odchodu Honzy Kaliny stal také Míra Barabáš\, který již jako host odjel šňůru koncertů ke křtu poslední desky NOČNÍ PTÁCI (září 2023). Na podzim 2024 kapela oslavila třemi úspěšnými koncerty 20 let od vydání legendárního alba Nikdy nic nebylo s hostujícím bývalým členem kapely Petrem Ostrouchovem a výhradním textařem kapely Tomášem Belkem. Skladba Nikdy nic nebylo má aktuálně na službě Spotify přes 20 milionů poslechů.Aktuální sestava: Jana Jelínková - zpěv // Míra Barabáš - zpěv // Jan Šobr - kytary // Adam Nohavica - baskytara // Jakub Nývlt - bicí // Miki Nop - perkuse // Petr Hostinský - klávesy\, zpěv // Markéta Greifonerová Smejkalová - baryton saxofon // Pavel Herzog - trubka // Martin Líska - pozoun
LOCATION:Davle
END:VEVENT
END:VCALENDAR