BEGIN:VCALENDAR
VERSION:2.0
CALSCALE:GREGORIAN
PRODID:-//MyApp//Calendar 1.0//EN
BEGIN:VEVENT
METHOD:PUBLISH
UID:60771@regionalniportaly.cz
DTSTAMP:20260420T120920Z
DTSTART;VALUE=DATE:20260205
DTEND;VALUE=DATE:20260206
SUMMARY:Marie Tilšarová - Roztoky - Tóny všímavosti
DESCRIPTION:V jemnosti a lehkosti\, ve vážnosti i radosti...písně Marie Tilšarové\, s jednoduchými a chytlavými melodiemi\,&nbsp\;které oslovují srdce a vyprávějí příběhy\, které zná každý z nás.&nbsp\;Přijďte si s námi zazpívat\, zatančit a naladit se na krásnou vlnu pohody za zvuku Mariina hlasu a kytary&nbsp\;v útulném prostředí kavárny Vratislavka café :-)
LOCATION:Roztoky
END:VEVENT
END:VCALENDAR