BEGIN:VCALENDAR
VERSION:2.0
CALSCALE:GREGORIAN
PRODID:-//MyApp//Calendar 1.0//EN
BEGIN:VEVENT
METHOD:PUBLISH
UID:60892@regionalniportaly.cz
DTSTAMP:20260420T104038Z
DTSTART;VALUE=DATE:20260114
DTEND;VALUE=DATE:20260115
SUMMARY:Jiří Smrž a Dobrovod
DESCRIPTION:Dvojnásobný držitel ceny Anděl Jiří Smrž je ojedinělou osobností současné české písničkářské scény.V jeho písních se prolíná invenční hudební rozměr s básnivými texty\, často s filozofickou a duchovní tematikou.Na koncertech a festivalech Jiří Smrž nyní vystupuje s Dobrovodem\, tj. s kamarády hudebníky\, kde zejména americký houslista Benjamin Lovett vnáší do koncertu improvizační spontálnost a živost\, která strhává publikum a celek se tak stává silným emočním zážitkem...
LOCATION:Beroun
END:VEVENT
END:VCALENDAR