BEGIN:VCALENDAR
VERSION:2.0
CALSCALE:GREGORIAN
PRODID:-//MyApp//Calendar 1.0//EN
BEGIN:VEVENT
METHOD:PUBLISH
UID:60939@regionalniportaly.cz
DTSTAMP:20260420T135114Z
DTSTART;VALUE=DATE:20260115
DTEND;VALUE=DATE:20260116
SUMMARY:Talkshow - Na pivo se Smetanou s hostem Jakubem Voráčkem
DESCRIPTION:Přijďte si užít večer plný humoru\, příběhů a nečekaných odpovědí v Únětickém pivovaru! Moderátor Jan Smetana si tentokrát pozval bývalého českého hokejového útočníka Jakuba Voráčka\,&nbsp\;který odehrál přes tisíc utkání v severoamerické&nbsp\;NHL\, převážně za klub&nbsp\;Philadelphia Flyers.&nbsp\; A nebudou se bavit jen na „na sucho“. V pivovaru totiž platí\, že u piva se lidé otevírají víc – a tak se možná dozvíte věci\, které by jinde zůstaly nevyřčené.Čeká vás pohodová atmosféra\, smích i inspirace.Pouze 50 míst\, tak neváhejte!A samozřejmě – u jednoho piva to určitě nezůstane!
LOCATION:Únětice
END:VEVENT
END:VCALENDAR