BEGIN:VCALENDAR
VERSION:2.0
CALSCALE:GREGORIAN
PRODID:-//MyApp//Calendar 1.0//EN
BEGIN:VEVENT
METHOD:PUBLISH
UID:61037@regionalniportaly.cz
DTSTAMP:20260420T085736Z
DTSTART;VALUE=DATE:20260407
DTEND;VALUE=DATE:20260408
SUMMARY:Na slovíčko s Petrem Nárožným
DESCRIPTION:Zábavný pořad s hereckou legendou Petrem Nárožným.Jeho nekonečný humor je při podobných setkáních příležitostí\, jak Petra Nárožného poznat nejen jako herce\, ale i vtipného vypravěče. Nenechte si ujít příležitost setkat se na mimořádném večeru s tímto vynikajícím filmovým a divadelním hercem.
LOCATION:Beroun
END:VEVENT
END:VCALENDAR