BEGIN:VCALENDAR
VERSION:2.0
CALSCALE:GREGORIAN
PRODID:-//MyApp//Calendar 1.0//EN
BEGIN:VEVENT
METHOD:PUBLISH
UID:61099@regionalniportaly.cz
DTSTAMP:20260420T091541Z
DTSTART;VALUE=DATE:20260227
DTEND;VALUE=DATE:20260228
SUMMARY:HAF - Hravá psí minipohádka (Divadlo L)
DESCRIPTION:HAF hravá psí minipohádkaHravá psí minipohádka pro lidská mláďata od 0 roků do 6 let a jejich rodiče.Co se stalo\, když se jeden takový pes vydal poprvé a úplně sám na výlet? První něžné setkání s divadlem pro nejmenšího diváka\, které jim hravou a interaktivní formou vypráví o tom\, že na dobrodružných výpravách je nejlepší\, když se zase vrátíme domů\, do bezpečí vlastního pelíšku.Po každém představení následuje psí hernička aneb Jeviště je hřiště.Během představení spolupracuje rodič a dítě v interakci s rozmanitými rekvizitami dotvářející celkový divadelní prožitek._________________________________________________________________Délka představení: 20 minut představení + 30 minut hernaZačátek v 10 hodin\, pro děti 0-6 letAula bude pro veřejnost otevřena již 15 minut před představením.Komorní uspořádání na zemi na matracích. Volný pohyb dětí i konzumace během představení je samozřejmostí (zvláště u dětí 1-3 roky).
LOCATION:Chýně
END:VEVENT
END:VCALENDAR