BEGIN:VCALENDAR
VERSION:2.0
CALSCALE:GREGORIAN
PRODID:-//MyApp//Calendar 1.0//EN
BEGIN:VEVENT
METHOD:PUBLISH
UID:61227@regionalniportaly.cz
DTSTAMP:20260420T121212Z
DTSTART;VALUE=DATE:20260214
DTEND;VALUE=DATE:20260215
SUMMARY:Roztocký masopust - večerní zábava v šapitó
DESCRIPTION:Masopust držíme\, nic se nebojíme pospolu!Roztocký Masopust se opět po&nbsp\;roce probouzí k&nbsp\;životu\, aby se&nbsp\;14.&nbsp\;února&nbsp\;vydal posvátně nestydatým procesím od Vltavy skrz roztockou krajinu a&nbsp\;skončil svou radostnou pouť na&nbsp\;večerní veselici v&nbsp\;šapitó&nbsp\;na louce u přívozu do Klecan\, zhruba 10 minut pěšky od nádraží Roztoky u Prahy.Kupte si lístky na závěr masopustního reje\, na večerní zábavu&nbsp\;vyhřívaném&nbsp\;šapitó.Program večerní zábavy v&nbsp\;šapitó&nbsp\;18.00 Muzička - cimbálová muzika a folklórní soubor Rosénka20:30 Rozpůlená nevěsta -&nbsp\;Jana Vörošová21.00&nbsp\; Vometačkové předtančení21:30-00:00&nbsp\;Tygrooa hojné masopustní jídlo a&nbsp\;pití!&nbsp\;VystupujícíTygroo (CZ)&nbsp\;&nbsp\;–&nbsp\;web&nbsp\;/&nbsp\;fb&nbsp\;/&nbsp\;insta&nbsp\;/&nbsp\;youtube&nbsp\;Divoká směsice elektronické taneční hudby\, balkánu\, jazzu&nbsp\;a&nbsp\;rapu. Máme je rádi a&nbsp\;oni nás!Muzička (CZ) –&nbsp\;web&nbsp\;/&nbsp\;fb&nbsp\;/&nbsp\;insta&nbsp\;Muzička je mladá cimbálová muzika se základnou v&nbsp\;Praze\, která zpracovává nejen písně z&nbsp\;Uherskohradišťska a&nbsp\;ostatních koutů Moravy\, ale nebojí se i&nbsp\;melodií přespolních. Původně vznikla v&nbsp\;roce 2006 z&nbsp\;malých tanečníků folklórního souboru Rosénka\, kteří si pro odlišení od dospělé cimbálové muziky začali říkat právě Muzička.Rozpůlená nevěsta&nbsp\;Epické drama\, ve kterém jde veškerá morálka a&nbsp\;dobré vychování stranou a&nbsp\;to všechno pro nevěstu…Hudba –&nbsp\;Jana Vörošová.Choreografie – Veronika KacianováZpívají: dětský sbor Rozrazil\, smíšené sbory Senza Nome\, La Folia\, Local vocalHraje: kapela Holinky\, Anna Veverková – housle\, Kristýna Sedláková – flétna\, Marie Součková – violoncello\, Lucie Nováková Urbanová – klavírVometačkové předtančeníTradiční tanečně-performativní vystoupení Královny se svou družinou.&nbsp\;
LOCATION:Roztoky
END:VEVENT
END:VCALENDAR