BEGIN:VCALENDAR
VERSION:2.0
CALSCALE:GREGORIAN
PRODID:-//MyApp//Calendar 1.0//EN
BEGIN:VEVENT
METHOD:PUBLISH
UID:61233@regionalniportaly.cz
DTSTAMP:20260420T135125Z
DTSTART;VALUE=DATE:20260317
DTEND;VALUE=DATE:20260318
SUMMARY:Michal Prokop Trio
DESCRIPTION:Michal Prokop – Jan Hrubý – Pavel Marcel
LOCATION:Beroun
END:VEVENT
END:VCALENDAR