BEGIN:VCALENDAR
VERSION:2.0
CALSCALE:GREGORIAN
PRODID:-//MyApp//Calendar 1.0//EN
BEGIN:VEVENT
METHOD:PUBLISH
UID:61434@regionalniportaly.cz
DTSTAMP:20260420T133006Z
DTSTART;VALUE=DATE:20251231
DTEND;VALUE=DATE:20260101
SUMMARY:Retro Silvestr 2025
DESCRIPTION:Již tradiční akce Retro Silvestr dává šanci prožít tento den v poklidné atmosféře našeho muzea. Zavzpomínáte si na staré videohry třeba i se svými dětmi\, vyzvete k souboji na tanečním automatu svou partnerku\, dohrajete pár mlátiček s partou kamarádů. Silvestr nemusí být jen nuda u televize nebo bloumání kolem zavřených podniků\, kde zuří oslavy s hektolitry alkoholu. Pojďte si silvestrovský den užít u nás!Budeme vám k službám jako v běžný otevírací den\, tedy od 10 do 19 hodin. S rokem 2025 se pak v 18:30 hodin společně rozloučíme přípitkem na zdraví a štěstí v roce 2026
LOCATION:Červený Újezd
END:VEVENT
END:VCALENDAR