BEGIN:VCALENDAR
VERSION:2.0
CALSCALE:GREGORIAN
PRODID:-//MyApp//Calendar 1.0//EN
BEGIN:VEVENT
METHOD:PUBLISH
UID:61615@regionalniportaly.cz
DTSTAMP:20260420T122631Z
DTSTART;VALUE=DATE:20260110
DTEND;VALUE=DATE:20260111
SUMMARY:Zabijačka na Okoři
DESCRIPTION:ZABIJAČKA NA OKOŘI — 10. 1. 2026 od 10:00&nbsp\;Tradiční zabijačka\, vůně guláše\, ovar\, tlačenka\, škvarky…prostě klasika\, jak má být&nbsp\;&nbsp\;👉 přijďte na jídlo\, atmosféru a pohodu👉 teplé nápoje\, občerstvení\, místo k sezení👉 super den na výlet i s rodinou
LOCATION:Okoř
END:VEVENT
END:VCALENDAR