BEGIN:VCALENDAR
VERSION:2.0
CALSCALE:GREGORIAN
PRODID:-//MyApp//Calendar 1.0//EN
BEGIN:VEVENT
METHOD:PUBLISH
UID:61717@regionalniportaly.cz
DTSTAMP:20260420T074142Z
DTSTART;VALUE=DATE:20260410
DTEND;VALUE=DATE:20260411
SUMMARY:Policejní pochod údolím Českých králů
DESCRIPTION:První ročník POLICEJNÍHO POCHODU ÚKOLÍM ČESKÝCH KRÁLŮ !!!Účastníci vyrazí na trasy vedoucí malebným údolím\, kterým&nbsp\;v&nbsp\;minulosti procházeli čeští panovníci. Zúčastnit se mohou nejen policisté\, členové složek IZS\, ale především veřejnost\, rodiny s&nbsp\;dětmi\, turisté\, pejsci…zkrátka všichni\, kdo milují aktivní den v&nbsp\;přírodě.Akce není závod\, ale jde především o společný zážitek\, který spojuje lidi. Přidanou hodnotou samotné akce je i její ekologické zaměření. Účastníci mohou během pochodu sbírat odpadky\, které budou odevzdávat na kontrolních bodech a pořadatelé se postarají o jejich odborné zpracování. Hygienickými potřebami jako jsou rukavice\, odpadkové pytle účastníky vybavíme. Jedná se o dobrovolnou aktivitu. Není tedy podmínkou se do ODPADKOVÉ VÝZVY zapojit. Účastníci pochodu\, kteří se této výzvy účastní\, v&nbsp\;cíli\, dle celkového množství nasbíraných odpadků\, obdrží odměnu.&nbsp\;Trasy pochodu jsou navrženy tak\, aby je zvládli jak zkušení turisté\, tak i rekreační chodci.Pochod nabízí trasy od 13 km – tzv. kočárková trasa\, 17 km\, 32 km\, 48 km a 76 km – noční pochod.U tras delších 30 km je i možnost přikoupení pamětní medaile pochodu. Jako merch jsou připravena super Dámská/Pánská trička a to jak bavlněná\, tak funkční. V různých velikostech\, v barvách Khaki a Černá.Nejkratší 13 kilometrová trasa - tzv. kočárková\, je určena především pro rodiny s&nbsp\;dětmi. V&nbsp\;prostoru STARTU a CÍLE budou připraveny atrakce pro děti a na kontrolním bodě v&nbsp\;Lesoparku Knihov se mohou zúčastnit i zábavného programu.Pochod podpoří NADACI POLICISTŮ A HASIČŮ. Nadace byla zřízena koncem roku 2002 a jejím hlavním cílem je zlepšit životní podmínky dětí policistů a hasičů\, kteří zemřeli při výkonu služby\, nebo v přímé souvislosti s ní. Od roku 2018 také pomáhá aktivním policistům a hasičům\, kteří se ocitli v těžkých životních situacích\, a to v důsledku zdravotních\, sociálních příčin nebo přírodních katastrof. Každou zakoupenou registrací tedy zároveň podpoříte i Nadaci policistů a Hasičů.Z&nbsp\;této akce bychom rádi vytvořili tradici\, která se bude opakovat každým rokem.Datum pochodu:&nbsp\;10. a 11. dubna 2026Do 18. 3. 2026 je možné k registraci přikoupit pamětní medaili (pouze u tras nad 30 km) či tričko dle výběru.Od 19. 3. 2026 do 3. 4. 2026 je možná už jen registrace na některou z nabízených tras.Akce se koná pod záštitou a podpory města Králův Dvůr\, za podpory Nadace Tipsport a města Beroun.&nbsp\;Děkujeme i ostatním partnerům: VAK Beroun\, 211 - Zdravotní pojišťovna ministerstva vnitra ČR\, ART elektro\, IKEP centrum pojištění\, Autozipo\, KOVOŠROT LORENZ\, s.r.o.\, Majaland Praha\, Dinosauria muzeum Prague\, Berounsko&nbsp\;z. s.\, Posázaví o. p. s.\, Drupol autodružstvo\, Zábavní park Šikland\, Muzeum rekordů Pelhřimov\, Nadační fond ALBERT.
LOCATION:Králův Dvůr
END:VEVENT
END:VCALENDAR