BEGIN:VCALENDAR
VERSION:2.0
CALSCALE:GREGORIAN
PRODID:-//MyApp//Calendar 1.0//EN
BEGIN:VEVENT
METHOD:PUBLISH
UID:61921@regionalniportaly.cz
DTSTAMP:20260420T093135Z
DTSTART;VALUE=DATE:20260219
DTEND;VALUE=DATE:20260220
SUMMARY:Talkshow - Na pivo se Smetanou s Davidem Vávrou
DESCRIPTION:Velmi nás to mrzí\, ale David Vávra se z neočekávaných důvodů nemůže zúčastnit plánované talkshow v Únětický pivovar.&nbsp\;O večer ale rozhodně nepřijdete! Dorazí „sklepáci“:….všichni za jednoho! Hanka Kušiaková Pafková\, Fáňa Váša\, Vladimír Vytiska\, Roman Fojtíček. O Sklepu\, o muzice\, o filmu\, o&nbsp\;obci……Zábava bude a u jednoho nezůstane!Těšíme se na&nbsp\;Vás.&nbsp\;&nbsp\;Přijďte si užít večer plný humoru\, příběhů a nečekaných odpovědí v Únětickém pivovaru! Moderátor Jan Smetana si tentokrát pozval z Divadla Sklep Davida Vávru a Vladimíra Vytisku.&nbsp\;A nebudou se bavit jen na „na sucho“. V pivovaru totiž platí\, že u piva se lidé otevírají víc – a tak se možná dozvíte věci\, které by jinde zůstaly nevyřčené.Čeká vás pohodová atmosféra\, smích i inspirace.Pouze 50 míst\, tak neváhejte!A samozřejmě – u jednoho piva to určitě nezůstane!
LOCATION:Únětice
END:VEVENT
END:VCALENDAR