BEGIN:VCALENDAR
VERSION:2.0
CALSCALE:GREGORIAN
PRODID:-//MyApp//Calendar 1.0//EN
BEGIN:VEVENT
METHOD:PUBLISH
UID:61931@regionalniportaly.cz
DTSTAMP:20260420T141031Z
DTSTART;VALUE=DATE:20260207
DTEND;VALUE=DATE:20260208
SUMMARY:Retrovlakem do pivovaru Chodovar
DESCRIPTION:Zvláštní jízda výletního rychlíku z Prahy přes Beroun a Plzeň do pivovaru Chodovar.\nRodinný pivovar s historickým areálem je vyhledávaným turistickým místem.\nJedná se o nejstarší pivovar západních Čech\, který dnes nabízí až sedm druhů tradičně spodně kvašených piv a výbornou minerální vodu značky Ilsano.\nSklepy ze 14. století vytesané v žulové skále slouží dodnes k vaření piva a v historických sklepích se nachází také originální restaurace Ve Skále.\nProgram:\n- unikátní restaurace Ve Skále v historických sklepích\,- pivovarnické muzeum\,- prohlídka pivovaru s ochutnávkou.
LOCATION:Beroun
END:VEVENT
END:VCALENDAR