BEGIN:VCALENDAR
VERSION:2.0
CALSCALE:GREGORIAN
PRODID:-//MyApp//Calendar 1.0//EN
BEGIN:VEVENT
METHOD:PUBLISH
UID:62165@regionalniportaly.cz
DTSTAMP:20260420T085748Z
DTSTART;VALUE=DATE:20260312
DTEND;VALUE=DATE:20260313
SUMMARY:Talkshow - Na pivo se Smetanou s hostem Lukášem Rohanem
DESCRIPTION:Přijďte si užít večer plný humoru\, příběhů a nečekaných odpovědí v Únětickém pivovaru! Moderátor Jan Smetana si tentokrát pozval vodního slalomáře a kajakáře Lukáše Rohana.A nebudou se bavit jen na „na sucho“. V pivovaru totiž platí\, že u piva se lidé otevírají víc – a tak se možná dozvíte věci\, které by jinde zůstaly nevyřčené.Čeká vás pohodová atmosféra\, smích i inspirace.Pouze 50 míst\, tak neváhejte!A samozřejmě – u jednoho piva to určitě nezůstane!
LOCATION:Únětice
END:VEVENT
END:VCALENDAR